BEGIN:VCALENDAR
VERSION:2.0
PRODID:icalendar-ruby
CALSCALE:GREGORIAN
METHOD:PUBLISH
BEGIN:VEVENT
DTSTAMP:20260425T133414Z
UID:231-2214513@slavelakealliance.com
DTSTART:20260509T223000Z
DTEND:20260510T023000Z
CLASS:PUBLIC
CREATED:20260424T093747
DESCRIPTION: Glow Bowling Night | Youth Event (Grades 7–12)Lights down…
  neon up… it’s time to roll!\nJoin us for a high-energy night of Glow-
 in-the-Dark Bowling in Enilda — where the pins shine\, the lanes glow\, 
 and the laughs echo a little louder. Whether you’re aiming for a strike 
 or just there for the snacks and vibes\, this is a night you won’t want 
 to miss.\n Date: Friday\, May 9 Meet at Church: 4:30 PM Return: ~8:30 PM C
 ost: $10 per youth(Bring a little extra for concession treats )\nOpen to a
 ll youth in Grades 7–12 — bring a friend and come ready for a glowing 
 good time!
LAST-MODIFIED:20260424T093747
LOCATION:Enilda
SUMMARY:Youth - Bowling Event
URL;VALUE=URI:https://www.slavelakealliance.com/events/youth-bowling-event/
 2026-05-09
ATTACH;FILENAME=Youth_050926.png;FMTTYPE=image/png:https://dq5pwpg1q8ru0.cl
 oudfront.net/2026/04/24/15/37/47/4e44323b-ee5b-474a-a3a9-a93e5fdfc5e5/Yout
 h_050926.png
END:VEVENT
END:VCALENDAR
